BEGIN:VCALENDAR
VERSION:2.0
PRODID:-//Liberty Harbor - ECPv6.15.20//NONSGML v1.0//EN
CALSCALE:GREGORIAN
METHOD:PUBLISH
X-ORIGINAL-URL:https://www.libertyharbor.com
X-WR-CALDESC:Events for Liberty Harbor
REFRESH-INTERVAL;VALUE=DURATION:PT1H
X-Robots-Tag:noindex
X-PUBLISHED-TTL:PT1H
BEGIN:VTIMEZONE
TZID:America/New_York
BEGIN:DAYLIGHT
TZOFFSETFROM:-0500
TZOFFSETTO:-0400
TZNAME:EDT
DTSTART:20200308T070000
END:DAYLIGHT
BEGIN:STANDARD
TZOFFSETFROM:-0400
TZOFFSETTO:-0500
TZNAME:EST
DTSTART:20201101T060000
END:STANDARD
BEGIN:DAYLIGHT
TZOFFSETFROM:-0500
TZOFFSETTO:-0400
TZNAME:EDT
DTSTART:20210314T070000
END:DAYLIGHT
BEGIN:STANDARD
TZOFFSETFROM:-0400
TZOFFSETTO:-0500
TZNAME:EST
DTSTART:20211107T060000
END:STANDARD
BEGIN:DAYLIGHT
TZOFFSETFROM:-0500
TZOFFSETTO:-0400
TZNAME:EDT
DTSTART:20220313T070000
END:DAYLIGHT
BEGIN:STANDARD
TZOFFSETFROM:-0400
TZOFFSETTO:-0500
TZNAME:EST
DTSTART:20221106T060000
END:STANDARD
BEGIN:DAYLIGHT
TZOFFSETFROM:-0500
TZOFFSETTO:-0400
TZNAME:EDT
DTSTART:20230312T070000
END:DAYLIGHT
BEGIN:STANDARD
TZOFFSETFROM:-0400
TZOFFSETTO:-0500
TZNAME:EST
DTSTART:20231105T060000
END:STANDARD
END:VTIMEZONE
BEGIN:VEVENT
DTSTART;TZID=America/New_York:20211113T180000
DTEND;TZID=America/New_York:20211113T220000
DTSTAMP:20260419T104646
CREATED:20211014T142658Z
LAST-MODIFIED:20221019T092911Z
UID:10730-1636826400-1636840800@www.libertyharbor.com
SUMMARY:LH - Casino Night and Hold 'Em Tournament - RSVP
DESCRIPTION:Join us for our resident Casino Night at Liberty Harbor\, an evening of complimentary drinks\, small bites and fun! \n\nHOLD’EM TOURNAMENT: \nThe featured game of the night will be a Multi-table Texas Hold’em Turbo Sit and Go. Test your luck and your skill against other residents. We’re playing for fun (no real $$) but there will be great prizes for the top three players of the evening.   \n  \nCASINO GAMES: \nBlackjack \nCraps \nRoulette \n  \nWHERE: 333 Grand Amenity Floor \nWHEN: Saturday\, November 13 from 6:00PM – 10:00PM ** HOLD ‘EM TOURNAMENT STARTS PROMPTLY AT 6:00 PM \n  \nCOST: Choose either or both! \nTOURNAMENT:  $20 admission (includes $1000 worth of chips- no rebuys) \nCASINO: $20 admission (includes $1000 worth of chips- $10 rebuy option)   \n  \nRSVP REQUIRED! RSVP Deadline: Thursday\, 11/11/21 at 11:59 PM. \n  \nHOLD EM PRIZES: \nFirst Prize: Apple AirPods Pro \nSecond Prize: $100 Zeppelin Gift Card \nThird Prize: 300 Piece Casino Dealer Poker Chip Set \n  \nCASINO PRIZES TO BE ANNOUNCED SHORTLY! \n  \nMORE INFO: 21+ event Professional Dealers Complimentary beverages and small bites The tournament begins promptly at 6:00. Please be on time. Liberty Harbor residents and their guests only. \n  \nQuestions? events@libertyharbor.com
URL:https://www.libertyharbor.com/event/lh-casino-night-and-hold-em-tournament-rsvp/
LOCATION:Liberty Harbor Residences\, 30 Regent Street\, Jersey City\, NJ\, 07302\, United States
CATEGORIES:Special Event
ATTACH;FMTTYPE=image/jpeg:https://www.libertyharbor.com/wp-content/uploads/2021/10/CasinoNightFBSize.jpg
END:VEVENT
BEGIN:VEVENT
DTSTART;TZID=America/New_York:20220105T180000
DTEND;TZID=America/New_York:20220105T193000
DTSTAMP:20260419T104646
CREATED:20220105T160745Z
LAST-MODIFIED:20231005T103608Z
UID:11552-1641405600-1641411000@www.libertyharbor.com
SUMMARY:Rum - January Tasting Event
DESCRIPTION:We’re looking forward to this month’s tasting\, Rum! \n\n\n\n\n\n\n\nJoin us this month to enjoy and explore Rum with Jersey Wine & Spirits. \n\n\n\nDATE: Wednesday\, January 5 \n\n\n\nTIME: 6:00PM – 7:30PM \n\n\n\nWHERE: 30 Regent Lobby \n\n\n\nNo RSVP required. Residents and their guests exclusively. \n\n\n\n\n\n\n\nSelections: \n\n\n\nDiamond Spiced Reserve \n\n\n\nEl Dorado 3 Year \n\n\n\nKirk and Sweeney Reserva \n\n\n\nEl Dorado 12 Year
URL:https://www.libertyharbor.com/event/rum-january-tasting-event/
LOCATION:Liberty Harbor Residents\, 50 Regent St\, Jersey City\, NJ\, 07302\, United States
CATEGORIES:Special Event
ATTACH;FMTTYPE=image/jpeg:https://www.libertyharbor.com/wp-content/uploads/2022/01/RumLivlySize-copy.jpg
END:VEVENT
BEGIN:VEVENT
DTSTART;TZID=America/New_York:20220209T180000
DTEND;TZID=America/New_York:20220209T193000
DTSTAMP:20260419T104646
CREATED:20220106T194851Z
LAST-MODIFIED:20220923T102216Z
UID:11565-1644429600-1644435000@www.libertyharbor.com
SUMMARY:Pink Wines and Liquors - February Tasting Event
DESCRIPTION:In the spirit of Valentine’s Day\, we’re looking forward to this month’s tasting\, Pink Wines and Liquors! \n\n\n\nJoin us this month to enjoy and explore pretty colors and flavors with Jersey Wine & Spirits. \n\n\n\nDATE: Wednesday\, February 9 \n\n\n\nTIME: 6:00PM – 7:30PM \n\n\n\nWHERE: 333 Grand Lobby \n\n\n\nNo RSVP required. Residents and their guests exclusively. \n\n\n\nSelections: \n\n\n\nTBA
URL:https://www.libertyharbor.com/event/pink-wines-and-liquors-february-tasting-event/
LOCATION:333 Grand Lobby\, 333 Grand St\, Jersey City\, NJ\, 07302\, United States
CATEGORIES:Special Event
ATTACH;FMTTYPE=image/jpeg:https://www.libertyharbor.com/wp-content/uploads/2022/01/pinterest-pink-drinks-fresh.jpg
END:VEVENT
BEGIN:VEVENT
DTSTART;TZID=America/New_York:20220309T180000
DTEND;TZID=America/New_York:20220309T193000
DTSTAMP:20260419T104646
CREATED:20220218T162839Z
LAST-MODIFIED:20220915T123830Z
UID:11623-1646848800-1646854200@www.libertyharbor.com
SUMMARY:Tasting Event - 902 Brewing Co.
DESCRIPTION:We are especially looking forward to introducing you to 902 Brewing Company\, Jersey City’s own local brewery! \n\n\n\n \n\n\n\nJoin us this month to enjoy and explore locally brewed beers! \n\n\n\nDATE: Wednesday\, March 9 \n\n\n\nTIME: 6:00PM – 7:30PM \n\n\n\nWHERE: 88 Regent Lobby \n\n\n\nNo RSVP required. Residents and their guests exclusively. \n\n\n\n \n\n\n\nSelections: \n\n\n\nTBA
URL:https://www.libertyharbor.com/event/tasting-event-902-brewing-co/
LOCATION:NJ
CATEGORIES:Special Event
ATTACH;FMTTYPE=image/jpeg:https://www.libertyharbor.com/wp-content/uploads/2022/02/902-Brewing-Co.jpg
END:VEVENT
BEGIN:VEVENT
DTSTART;TZID=America/New_York:20220324T200000
DTEND;TZID=America/New_York:20220324T213000
DTSTAMP:20260419T104646
CREATED:20220204T174059Z
LAST-MODIFIED:20231006T095846Z
UID:11592-1648152000-1648157400@www.libertyharbor.com
SUMMARY:Drag Bingo Evening at LH
DESCRIPTION:Join us and legendary host Harmonica Sunbeam for a fun evening playing everyone’s favorite game of chance; BINGO! Prizes will be awarded for each game (there will be 6 games in total)\, we will have light snacks and refreshments but feel free to BYOB. \n\n\n\n\n\n\n\n$10 gets you ONE game card for each of the SIX games. Additional cards can be purchased at the event. Limited availability at the door. \n\n\n\nDATE: Thursday\, March 24 \n\n\n\nTIME: 8PM – 9:30PM \n\n\n\nLOCATION: 333 Grand Observatory \n\n\n\nCOST: $10 — you receive ONE game card for each of the SIX games. Additional cards can be purchased at the event. \n\n\n\nRSVP below!! \n\n\n\nLimited availability at the door \n\n\n\n \n\n\n\nResidents and their guests exclusively. \n\n\n\n \n\n\n\nQuestions? Events@libertyharbor.com
URL:https://www.libertyharbor.com/event/drag-bingo-evening-at-lh/
LOCATION:50 Regent Observatory\, 50 Regent St.\, Jersey City\, NJ\, 07302\, United States
CATEGORIES:Special Event
ATTACH;FMTTYPE=image/jpeg:https://www.libertyharbor.com/wp-content/uploads/2022/02/Drag-Bingo-scaled.jpg
END:VEVENT
END:VCALENDAR