BEGIN:VCALENDAR
VERSION:2.0
PRODID:-//Liberty Harbor - ECPv6.15.20//NONSGML v1.0//EN
CALSCALE:GREGORIAN
METHOD:PUBLISH
X-ORIGINAL-URL:https://www.libertyharbor.com
X-WR-CALDESC:Events for Liberty Harbor
REFRESH-INTERVAL;VALUE=DURATION:PT1H
X-Robots-Tag:noindex
X-PUBLISHED-TTL:PT1H
BEGIN:VTIMEZONE
TZID:America/New_York
BEGIN:DAYLIGHT
TZOFFSETFROM:-0500
TZOFFSETTO:-0400
TZNAME:EDT
DTSTART:20180311T070000
END:DAYLIGHT
BEGIN:STANDARD
TZOFFSETFROM:-0400
TZOFFSETTO:-0500
TZNAME:EST
DTSTART:20181104T060000
END:STANDARD
BEGIN:DAYLIGHT
TZOFFSETFROM:-0500
TZOFFSETTO:-0400
TZNAME:EDT
DTSTART:20190310T070000
END:DAYLIGHT
BEGIN:STANDARD
TZOFFSETFROM:-0400
TZOFFSETTO:-0500
TZNAME:EST
DTSTART:20191103T060000
END:STANDARD
BEGIN:DAYLIGHT
TZOFFSETFROM:-0500
TZOFFSETTO:-0400
TZNAME:EDT
DTSTART:20200308T070000
END:DAYLIGHT
BEGIN:STANDARD
TZOFFSETFROM:-0400
TZOFFSETTO:-0500
TZNAME:EST
DTSTART:20201101T060000
END:STANDARD
END:VTIMEZONE
BEGIN:VEVENT
DTSTART;TZID=America/New_York:20191208T043000
DTEND;TZID=America/New_York:20191208T053000
DTSTAMP:20260424T182910
CREATED:20190219T194004Z
LAST-MODIFIED:20231008T134457Z
UID:2138-1575779400-1575783000@www.libertyharbor.com
SUMMARY:JC Bump & Baby Prenatal Yoga
DESCRIPTION:  \nPrenatal yoga is a way to find comfort in your ever changing body. Through all facets of yoga: physical practice or movements\, breathing and meditation we will cultivate awareness and develop comfort measures so that you can connect with your baby. You will find the strength and confidence within you in order to prepare yourself for labor and new motherhood. This class will also provide a community of women with whom you are able to discuss the challenges you are facing as your body transitions into each stage of pregnancy. Various stages of pregnancy are welcome and no previous knowledge of yoga is necessary. \n50 Regent Street\,11th Floor Observatory\nCost will be $20.00 per class-five class pass is $90.00\nMat Rental is $1.00
URL:https://www.libertyharbor.com/event/jc-bump-baby-prenatal-yoga-2-2019-12-08/
LOCATION:50 Regent\, 11th Floor Observatory Room\, 50 Regent St.\, Jersey City\, NJ\, 07302\, United States
CATEGORIES:Baby Stuff
END:VEVENT
BEGIN:VEVENT
DTSTART;TZID=America/New_York:20191208T073000
DTEND;TZID=America/New_York:20191208T083000
DTSTAMP:20260424T182910
CREATED:20191202T182914Z
LAST-MODIFIED:20231003T061423Z
UID:4394-1575790200-1575793800@www.libertyharbor.com
SUMMARY:Fat Blast with Own Your Fitness
DESCRIPTION:First Fat Blast class is free\nSingle drop-in class- $25\n5 class package- $22/ class\n10 class package- $20/ class\nWhere: 333 Grand – Yoga Room\nto RSVP: info@ownyourfitness.net\nPlease RSVP 48 hours prior to class start time\nThis class has a 24-hour cancellation policy
URL:https://www.libertyharbor.com/event/fat-blast-with-own-your-fitness-2-2019-12-08/
LOCATION:333 Grand Yoga Room (3rd Floor)\, 333 grand st.\, Jersey City\, NJ\, 07302\, United States
ATTACH;FMTTYPE=image/jpeg:https://www.libertyharbor.com/wp-content/uploads/2019/10/fitness2.jpg
END:VEVENT
BEGIN:VEVENT
DTSTART;TZID=America/New_York:20191208T083000
DTEND;TZID=America/New_York:20191208T093000
DTSTAMP:20260424T182910
CREATED:20191202T184209Z
LAST-MODIFIED:20231005T101642Z
UID:4398-1575793800-1575797400@www.libertyharbor.com
SUMMARY:JC Bump & Baby - Prenatal Yoga
DESCRIPTION:Prenatal yoga is a way to find comfort in your ever-changing body. Through all facets of yoga: physical practice or movements\, breathing and meditation we will cultivate awareness and develop comfort measures so that you can connect with your baby. You will find the strength and confidence within you in order to prepare yourself for labor and new motherhood. This class will also provide a community of women with whom you are able to discuss the challenges you are facing as your body transitions into each stage of pregnancy. Various stages of pregnancy are welcome and no previous knowledge of yoga is necessary. \nWhere: 50 Regent\, 11th Floor Observatory Room\nCost will be $20.00 per class / five class pass is $90.00\nMat Rental is $1.00 \nSign Up:  bit.ly/LHJCBUMPBABYRSVP
URL:https://www.libertyharbor.com/event/jc-bump-baby-prenatal-yoga-3-2019-12-08/
LOCATION:50 Regent\, 11th Floor Observatory Room\, 50 Regent St.\, Jersey City\, NJ\, 07302\, United States
ATTACH;FMTTYPE=image/jpeg:https://www.libertyharbor.com/wp-content/uploads/2019/02/42132025_1826214920826520_3774079224323768320_o.jpg
END:VEVENT
END:VCALENDAR